BEGIN:VCALENDAR
VERSION:2.0
PRODID:-//Garbos Venue - ECPv5.9.1//NONSGML v1.0//EN
CALSCALE:GREGORIAN
METHOD:PUBLISH
X-WR-CALNAME:Garbos Venue
X-ORIGINAL-URL:https://www.garbosvenue.com
X-WR-CALDESC:Events for Garbos Venue
BEGIN:VTIMEZONE
TZID:UTC
BEGIN:STANDARD
TZOFFSETFROM:+0000
TZOFFSETTO:+0000
TZNAME:UTC
DTSTART:20200101T000000
END:STANDARD
END:VTIMEZONE
BEGIN:VEVENT
DTSTART;TZID=UTC:20200328T210000
DTEND;TZID=UTC:20200328T233000
DTSTAMP:20260423T112814
CREATED:20200123T132731Z
LAST-MODIFIED:20200313T150441Z
UID:580-1585429200-1585438200@www.garbosvenue.com
SUMMARY:Buffalo Soul - POSTPONED
DESCRIPTION:BUFFALO SOUL GIG HAS BEEN POSTPONED. \nA RESCHEDULED DATE WILL BE ANNOUNCED OVER THE COMING WEEKS. \nIreland’s definitive Bob Marley & The Whalers Tribute Band
URL:https://www.garbosvenue.com/event/buffalo-soul/
LOCATION:Garbos Venue\, Castlebar\, Ireland
CATEGORIES:Live Music
ATTACH;FMTTYPE=image/png:https://www.garbosvenue.com/wp-content/uploads/2020/01/Cinema-Ads-28.png
END:VEVENT
END:VCALENDAR