BEGIN:VCALENDAR
VERSION:2.0
PRODID:-//Garbos Venue - ECPv5.9.1//NONSGML v1.0//EN
CALSCALE:GREGORIAN
METHOD:PUBLISH
X-WR-CALNAME:Garbos Venue
X-ORIGINAL-URL:https://www.garbosvenue.com
X-WR-CALDESC:Events for Garbos Venue
BEGIN:VTIMEZONE
TZID:UTC
BEGIN:STANDARD
TZOFFSETFROM:+0000
TZOFFSETTO:+0000
TZNAME:UTC
DTSTART:20200101T000000
END:STANDARD
END:VTIMEZONE
BEGIN:VEVENT
DTSTART;TZID=UTC:20200522T210000
DTEND;TZID=UTC:20200522T233000
DTSTAMP:20260423T101108
CREATED:20200303T133934Z
LAST-MODIFIED:20200429T082727Z
UID:618-1590181200-1590190200@www.garbosvenue.com
SUMMARY:Dubliners Show - POSTPONED
DESCRIPTION:Marty Walsh Promotions presents.\n\nAll For Me Grog The Songs And Story Of THE DUBLINERS.\n\nThe Galway based show that has played to full houses and standing ovations on its Irish tours. The show brings you the music and songs of Irelands most successful folk band-THE DUBLINERS.\n\nPresented by five top rated folk musicians and singers who are deeply honoured to become the bearers of the torch which has been borne with such power and dignity over the past decades by THE DUBLINERS. The original line-up of RONNIE DREW\, LUKE KELLY\, BARNEY McKENNA\, CIARAN BURKE and JOHN SHEEHAN is brought to life with the exact same instrumentation\, songs and close as you will get vocals\, bringing to the stage a show in sound and appearance of uncanny accuracy of the internationally renowned DUBLINERS.\n\nWith his red hair\, beard and magnetic charisma\, five string banjo maestro James Gallagher’s powerful impressive voice is so reminiscent of Luke Kellys golden vocal chords\, that it has to be a fluke. His rendition of songs such as ‘Raglan Road’ and ‘Scorn Not His Simplicity’ are breathtaking in their pureness and clarity.\n\nGuitar picking Dublin man Anthony Rooney\, sings with gusto and a reality that encompasses the wonderful talent of the great Irish Balladeers\, and in doing so\, he keeps alive a wonderful Dublin tradition.\n\nOn whistles\, guitar\, vocals and some amusing chat is deep voiced Dubliner\, Jeremy Jenkinson\, bringing to the show the magnificence of the contribution that Ciaran Burke and Ronnie Drew brought to the original DUBLINERS. In fact\, it’s Jeremy’s vocals that are featured on the Liberties recording of ‘All For Me Grog’.\n\na young man from a family steeped in traditional music. His consummate skill on the tenor banjo just has to be seen and heard to be believed and appreciated. His mastery of Barney McKenna’s style and sound is a show in itself.\n\nNiall Connaire is the “quite man” of the Band but his fiddle playing is a talking\, singing\, electrifying experience. A classically trained musician\, he replicates Dubliners violin maestro John Sheehan’s unique sound to perfection.\n\nThe Black Velvet Band\, McAlpines Fusiliers\, The Spanish Lady\, The Irish Rover\, The Auld Triangle\, The Parting Glass and of course\, the song that made The Dubliners international stars-Seven Drunken Nights plus all their other hits\, will have you clapping your hands\, stomping your feet and joining in the chorus of the well known and much loved songs at this uplifting and exciting two hour show.\nAnd to quote from Liam Murphy’s review in the Munster Express; ‘from the moment they struck up ‘Whiskey In The Jar’ you knew you were in for a good night and indeed it was.’
URL:https://www.garbosvenue.com/event/dubliners-show/
LOCATION:Garbos Venue\, Castlebar\, Ireland
CATEGORIES:Live Music
ATTACH;FMTTYPE=image/png:https://www.garbosvenue.com/wp-content/uploads/2020/03/Cinema-Ads-5.png
END:VEVENT
END:VCALENDAR