BEGIN:VCALENDAR
VERSION:2.0
PRODID:-//Garbos Venue - ECPv5.9.1//NONSGML v1.0//EN
CALSCALE:GREGORIAN
METHOD:PUBLISH
X-WR-CALNAME:Garbos Venue
X-ORIGINAL-URL:https://www.garbosvenue.com
X-WR-CALDESC:Events for Garbos Venue
BEGIN:VTIMEZONE
TZID:UTC
BEGIN:STANDARD
TZOFFSETFROM:+0000
TZOFFSETTO:+0000
TZNAME:UTC
DTSTART:20190101T000000
END:STANDARD
END:VTIMEZONE
BEGIN:VEVENT
DTSTART;TZID=UTC:20191228T210000
DTEND;TZID=UTC:20191228T233000
DTSTAMP:20260422T084131
CREATED:20190808T121100Z
LAST-MODIFIED:20190808T121100Z
UID:430-1577566800-1577575800@www.garbosvenue.com
SUMMARY:Symphonic Dance Performed by Mayo Concert Orchestra
DESCRIPTION:With all the dance classic’s by the 50-piece Mayo Concert Orchestra in collaboration with Mayo DJ Padraig Walsh\, and supported by Vocalist Vox and the latest in disco visual and audio technology\, one word MASSIVE!
URL:https://www.garbosvenue.com/event/symphonic-dance-mayo-concert-orchestra/
LOCATION:Garbos Venue\, Castlebar\, Ireland
CATEGORIES:Live Music
ATTACH;FMTTYPE=image/jpeg:https://www.garbosvenue.com/wp-content/uploads/2019/08/29103786_594540327567726_8535387049995230410_n.jpg
END:VEVENT
END:VCALENDAR