BEGIN:VCALENDAR
VERSION:2.0
PRODID:-//Garbos Venue - ECPv5.9.1//NONSGML v1.0//EN
CALSCALE:GREGORIAN
METHOD:PUBLISH
X-WR-CALNAME:Garbos Venue
X-ORIGINAL-URL:https://www.garbosvenue.com
X-WR-CALDESC:Events for Garbos Venue
BEGIN:VTIMEZONE
TZID:UTC
BEGIN:STANDARD
TZOFFSETFROM:+0000
TZOFFSETTO:+0000
TZNAME:UTC
DTSTART:20200101T000000
END:STANDARD
END:VTIMEZONE
BEGIN:VEVENT
DTSTART;TZID=UTC:20200214T210000
DTEND;TZID=UTC:20200214T233000
DTSTAMP:20260422T100701
CREATED:20191211T124926Z
LAST-MODIFIED:20200107T142512Z
UID:501-1581714000-1581723000@www.garbosvenue.com
SUMMARY:The 4 Of Us
DESCRIPTION:We are delighted to welcome back The 4 Of Us to Garbos Venue in 2020 after their sold out gig in August 2019. \nTICKETS NOW ON SALE: http://bit.ly/39Oop4E
URL:https://www.garbosvenue.com/event/the-4-of-us-2020/
LOCATION:Garbos Venue\, Castlebar\, Ireland
CATEGORIES:Live Music
ATTACH;FMTTYPE=image/png:https://www.garbosvenue.com/wp-content/uploads/2019/12/Copy-of-Copy-of-Garbso-Facebook-Cover-NEW.png
END:VEVENT
END:VCALENDAR