BEGIN:VCALENDAR
VERSION:2.0
PRODID:-//Garbos Venue - ECPv5.9.1//NONSGML v1.0//EN
CALSCALE:GREGORIAN
METHOD:PUBLISH
X-WR-CALNAME:Garbos Venue
X-ORIGINAL-URL:https://www.garbosvenue.com
X-WR-CALDESC:Events for Garbos Venue
BEGIN:VTIMEZONE
TZID:UTC
BEGIN:STANDARD
TZOFFSETFROM:+0000
TZOFFSETTO:+0000
TZNAME:UTC
DTSTART:20210101T000000
END:STANDARD
END:VTIMEZONE
BEGIN:VEVENT
DTSTART;TZID=UTC:20210901T200000
DTEND;TZID=UTC:20210901T233000
DTSTAMP:20260423T102058
CREATED:20210817T153349Z
LAST-MODIFIED:20210819T131403Z
UID:678-1630526400-1630539000@www.garbosvenue.com
SUMMARY:The Side Effects
DESCRIPTION:The Side Effects feat. john hoban\, tony reidy & Dan delaney \nUnder the stretch tent at Mayo Leisure Point \n\n\n\nA band of 3 musicians\, based in West Mayo. Folk\, traditional\, jazz\, country and highly acclaimed original compositions from these players\, make up a wonderful combination of songs\, stories and instrumental music. Listen and you will hear influences from Coltrane to the Clancy Brothers\, from Dylan to the Carter family and many more…..The Side Effects are: Tony Reidy- guitar\, mandolin\, vocals. John Hoban- Mandocello\, fiddle\, vocals. Dan Delaney- fiddle\, saxophone\, vocals.
URL:https://www.garbosvenue.com/event/the-side-effects-2/
LOCATION:Garbos Venue\, Castlebar\, Ireland
CATEGORIES:Live Music
END:VEVENT
END:VCALENDAR